Package: pengls Version: 1.13.0 Command: chmod a+r pengls -R && E:\biocbuild\bbs-3.21-bioc\R\bin\R.exe CMD build --keep-empty-dirs --no-resave-data pengls StartedAt: 2025-02-09 20:41:04 -0500 (Sun, 09 Feb 2025) EndedAt: 2025-02-09 20:44:49 -0500 (Sun, 09 Feb 2025) EllapsedTime: 225.7 seconds RetCode: 0 Status: OK PackageFile: pengls_1.13.0.tar.gz PackageFileSize: 25.51 KiB