Package: pengls Version: 1.13.0 Command: E:\biocbuild\bbs-3.21-bioc\R\bin\R.exe CMD check --no-multiarch --install=check:pengls.install-out.txt --library=E:\biocbuild\bbs-3.21-bioc\R\library --no-vignettes --timings pengls_1.13.0.tar.gz StartedAt: 2025-02-04 04:28:10 -0500 (Tue, 04 Feb 2025) EndedAt: 2025-02-04 04:37:42 -0500 (Tue, 04 Feb 2025) EllapsedTime: 572.6 seconds RetCode: 0 Status: OK CheckDir: pengls.Rcheck Warnings: 0