Package: pfamAnalyzeR Version: 1.7.0 Command: rm -rf pfamAnalyzeR.buildbin-libdir && mkdir pfamAnalyzeR.buildbin-libdir && /Users/biocbuild/BBS/utils/build-universal.sh pfamAnalyzeR_1.7.0.tar.gz /Library/Frameworks/R.framework/Resources/bin/R pfamAnalyzeR.buildbin-libdir StartedAt: 2025-02-09 22:25:02 -0500 (Sun, 09 Feb 2025) EndedAt: 2025-02-09 22:25:04 -0500 (Sun, 09 Feb 2025) EllapsedTime: 2.0 seconds RetCode: 0 Status: OK PackageFile: pfamAnalyzeR_1.7.0.tgz PackageFileSize: 311.3 KiB