Package: pfamAnalyzeR Version: 1.7.0 Command: /Library/Frameworks/R.framework/Resources/bin/R CMD INSTALL pfamAnalyzeR StartedAt: 2025-02-09 15:03:17 -0500 (Sun, 09 Feb 2025) EndedAt: 2025-02-09 15:03:21 -0500 (Sun, 09 Feb 2025) EllapsedTime: 3.8 seconds RetCode: 0 Status: OK