Package: pfamAnalyzeR Version: 1.7.0 Command: /Library/Frameworks/R.framework/Resources/bin/R CMD build --keep-empty-dirs --no-resave-data pfamAnalyzeR StartedAt: 2025-02-04 17:49:37 -0500 (Tue, 04 Feb 2025) EndedAt: 2025-02-04 17:49:49 -0500 (Tue, 04 Feb 2025) EllapsedTime: 11.4 seconds RetCode: 0 Status: OK PackageFile: pfamAnalyzeR_1.7.0.tar.gz PackageFileSize: 351.8 KiB