Package: pfamAnalyzeR Version: 1.7.0 Command: /home/biocbuild/bbs-3.21-bioc/R/bin/R CMD build --keep-empty-dirs --no-resave-data pfamAnalyzeR StartedAt: 2025-02-04 18:36:31 -0500 (Tue, 04 Feb 2025) EndedAt: 2025-02-04 18:36:38 -0500 (Tue, 04 Feb 2025) EllapsedTime: 7.0 seconds RetCode: 0 Status: OK PackageFile: pfamAnalyzeR_1.7.0.tar.gz PackageFileSize: 351.9 KiB