Package: pfamAnalyzeR Version: 1.7.0 Command: /home/biocbuild/bbs-3.21-bioc/R/bin/R CMD check --install=check:pfamAnalyzeR.install-out.txt --library=/home/biocbuild/bbs-3.21-bioc/R/site-library --timings pfamAnalyzeR_1.7.0.tar.gz StartedAt: 2025-02-10 01:15:42 -0500 (Mon, 10 Feb 2025) EndedAt: 2025-02-10 01:16:10 -0500 (Mon, 10 Feb 2025) EllapsedTime: 28.0 seconds RetCode: 0 Status: OK CheckDir: pfamAnalyzeR.Rcheck Warnings: 0