Package: pfamAnalyzeR Version: 1.7.0 Command: rm -rf pfamAnalyzeR.buildbin-libdir && mkdir pfamAnalyzeR.buildbin-libdir && E:\biocbuild\bbs-3.21-bioc\R\bin\R.exe CMD INSTALL --build --library=pfamAnalyzeR.buildbin-libdir pfamAnalyzeR_1.7.0.tar.gz StartedAt: 2025-02-10 08:22:07 -0500 (Mon, 10 Feb 2025) EndedAt: 2025-02-10 08:22:19 -0500 (Mon, 10 Feb 2025) EllapsedTime: 12.0 seconds RetCode: 0 Status: OK PackageFile: pfamAnalyzeR_1.7.0.zip PackageFileSize: 317 KiB