Package: pfamAnalyzeR Version: 1.7.0 Command: chmod a+r pfamAnalyzeR -R && E:\biocbuild\bbs-3.21-bioc\R\bin\R.exe CMD build --keep-empty-dirs --no-resave-data pfamAnalyzeR StartedAt: 2025-02-09 20:42:51 -0500 (Sun, 09 Feb 2025) EndedAt: 2025-02-09 20:43:05 -0500 (Sun, 09 Feb 2025) EllapsedTime: 14.1 seconds RetCode: 0 Status: OK PackageFile: pfamAnalyzeR_1.7.0.tar.gz PackageFileSize: 352 KiB