Package: pfamAnalyzeR Version: 1.7.0 Command: E:\biocbuild\bbs-3.21-bioc\R\bin\R.exe CMD check --no-multiarch --install=check:pfamAnalyzeR.install-out.txt --library=E:\biocbuild\bbs-3.21-bioc\R\library --no-vignettes --timings pfamAnalyzeR_1.7.0.tar.gz StartedAt: 2025-02-10 04:02:21 -0500 (Mon, 10 Feb 2025) EndedAt: 2025-02-10 04:03:06 -0500 (Mon, 10 Feb 2025) EllapsedTime: 45.0 seconds RetCode: 0 Status: OK CheckDir: pfamAnalyzeR.Rcheck Warnings: 0