Package: pgxRpi Version: 1.3.2 Command: /Library/Frameworks/R.framework/Resources/bin/R CMD build --keep-empty-dirs --no-resave-data pgxRpi StartedAt: 2025-02-09 17:14:31 -0500 (Sun, 09 Feb 2025) EndedAt: 2025-02-09 17:19:06 -0500 (Sun, 09 Feb 2025) EllapsedTime: 274.2 seconds RetCode: 0 Status: OK PackageFile: pgxRpi_1.3.2.tar.gz PackageFileSize: 2.943 MiB