Package: pgxRpi Version: 1.3.2 Command: rm -rf pgxRpi.buildbin-libdir && mkdir pgxRpi.buildbin-libdir && /Users/biocbuild/BBS/utils/build-universal.sh pgxRpi_1.3.2.tar.gz /Library/Frameworks/R.framework/Resources/bin/R pgxRpi.buildbin-libdir StartedAt: 2025-02-10 01:08:05 -0500 (Mon, 10 Feb 2025) EndedAt: 2025-02-10 01:08:13 -0500 (Mon, 10 Feb 2025) EllapsedTime: 8.1 seconds RetCode: 0 Status: OK PackageFile: pgxRpi_1.3.2.tgz PackageFileSize: 3.038 MiB