Package: pgxRpi Version: 1.3.2 Command: /Library/Frameworks/R.framework/Resources/bin/R CMD check --install=check:pgxRpi.install-out.txt --library=/Library/Frameworks/R.framework/Resources/library --no-vignettes --timings pgxRpi_1.3.2.tar.gz StartedAt: 2025-02-09 22:39:02 -0500 (Sun, 09 Feb 2025) EndedAt: 2025-02-09 22:45:46 -0500 (Sun, 09 Feb 2025) EllapsedTime: 404.3 seconds RetCode: 0 Status: OK CheckDir: pgxRpi.Rcheck Warnings: 0