Package: pgxRpi Version: 1.3.2 Command: /Library/Frameworks/R.framework/Resources/bin/R CMD INSTALL pgxRpi StartedAt: 2025-02-09 15:43:33 -0500 (Sun, 09 Feb 2025) EndedAt: 2025-02-09 15:43:38 -0500 (Sun, 09 Feb 2025) EllapsedTime: 4.8 seconds RetCode: 0 Status: OK