Package: pgxRpi Version: 1.3.3 Command: /home/biocbuild/bbs-3.21-bioc/R/bin/R CMD build --keep-empty-dirs --no-resave-data pgxRpi StartedAt: 2025-02-12 18:34:49 -0500 (Wed, 12 Feb 2025) EndedAt: 2025-02-12 18:36:38 -0500 (Wed, 12 Feb 2025) EllapsedTime: 109.2 seconds RetCode: 1 Status: ERROR PackageFile: None PackageFileSize: NA