Package: pgxRpi Version: 1.3.2 Command: chmod a+r pgxRpi -R && E:\biocbuild\bbs-3.21-bioc\R\bin\R.exe CMD build --keep-empty-dirs --no-resave-data pgxRpi StartedAt: 2025-02-09 20:43:06 -0500 (Sun, 09 Feb 2025) EndedAt: 2025-02-09 20:55:19 -0500 (Sun, 09 Feb 2025) EllapsedTime: 732.8 seconds RetCode: 0 Status: OK PackageFile: pgxRpi_1.3.2.tar.gz PackageFileSize: 1.212 MiB