Package: pgxRpi Version: 1.3.2 Command: E:\biocbuild\bbs-3.21-bioc\R\bin\R.exe CMD check --no-multiarch --install=check:pgxRpi.install-out.txt --library=E:\biocbuild\bbs-3.21-bioc\R\library --no-vignettes --timings pgxRpi_1.3.2.tar.gz StartedAt: 2025-02-10 04:02:33 -0500 (Mon, 10 Feb 2025) EndedAt: 2025-02-10 04:11:25 -0500 (Mon, 10 Feb 2025) EllapsedTime: 532.1 seconds RetCode: 0 Status: OK CheckDir: pgxRpi.Rcheck Warnings: 0