Package: pgxRpi Version: 1.3.2 Command: E:\biocbuild\bbs-3.21-bioc\R\bin\R.exe CMD INSTALL pgxRpi StartedAt: 2025-02-09 16:10:06 -0500 (Sun, 09 Feb 2025) EndedAt: 2025-02-09 16:10:18 -0500 (Sun, 09 Feb 2025) EllapsedTime: 12.5 seconds RetCode: 0 Status: OK