Package: phantasusLite Version: 1.5.0 Command: /Library/Frameworks/R.framework/Resources/bin/R CMD check --install=check:phantasusLite.install-out.txt --library=/Library/Frameworks/R.framework/Resources/library --no-vignettes --timings phantasusLite_1.5.0.tar.gz StartedAt: 2025-02-09 20:38:00 -0500 (Sun, 09 Feb 2025) EndedAt: 2025-02-09 20:39:35 -0500 (Sun, 09 Feb 2025) EllapsedTime: 95.0 seconds RetCode: 0 Status: OK CheckDir: phantasusLite.Rcheck Warnings: 0