Package: phantasusLite Version: 1.5.0 Command: /home/biocbuild/R/R/bin/R CMD build --keep-empty-dirs --no-resave-data phantasusLite StartedAt: 2025-01-29 01:15:39 -0000 (Wed, 29 Jan 2025) EndedAt: 2025-01-29 01:17:16 -0000 (Wed, 29 Jan 2025) EllapsedTime: 97.1 seconds RetCode: 0 Status: OK PackageFile: phantasusLite_1.5.0.tar.gz PackageFileSize: 259.2 KiB