Package: phantasusLite Version: 1.5.0 Command: /home/biocbuild/R/R/bin/R CMD check --install=check:phantasusLite.install-out.txt --library=/home/biocbuild/R/R/site-library --no-vignettes --timings phantasusLite_1.5.0.tar.gz StartedAt: 2025-01-28 13:51:42 -0000 (Tue, 28 Jan 2025) EndedAt: 2025-01-28 13:56:49 -0000 (Tue, 28 Jan 2025) EllapsedTime: 306.3 seconds RetCode: 1 Status: ERROR CheckDir: phantasusLite.Rcheck Warnings: NA