Package: phantasusLite Version: 1.5.0 Command: /home/biocbuild/R/R/bin/R CMD INSTALL phantasusLite StartedAt: 2025-01-29 19:37:39 -0000 (Wed, 29 Jan 2025) EndedAt: 2025-01-29 19:38:01 -0000 (Wed, 29 Jan 2025) EllapsedTime: 22.1 seconds RetCode: 0 Status: OK