Package: phantasusLite Version: 1.5.0 Command: rm -rf phantasusLite.buildbin-libdir && mkdir phantasusLite.buildbin-libdir && /Users/biocbuild/BBS/utils/build-universal.sh phantasusLite_1.5.0.tar.gz /Library/Frameworks/R.framework/Resources/bin/R phantasusLite.buildbin-libdir StartedAt: 2025-02-04 00:48:26 -0500 (Tue, 04 Feb 2025) EndedAt: 2025-02-04 00:48:51 -0500 (Tue, 04 Feb 2025) EllapsedTime: 25.5 seconds RetCode: 0 Status: OK PackageFile: phantasusLite_1.5.0.tgz PackageFileSize: 304 KiB