Package: phantasusLite Version: 1.5.0 Command: /Library/Frameworks/R.framework/Resources/bin/R CMD build --keep-empty-dirs --no-resave-data phantasusLite StartedAt: 2025-02-09 17:56:30 -0500 (Sun, 09 Feb 2025) EndedAt: 2025-02-09 17:57:32 -0500 (Sun, 09 Feb 2025) EllapsedTime: 61.7 seconds RetCode: 0 Status: OK PackageFile: phantasusLite_1.5.0.tar.gz PackageFileSize: 233.4 KiB