Package: phantasusLite Version: 1.5.0 Command: /Library/Frameworks/R.framework/Resources/bin/R CMD INSTALL phantasusLite StartedAt: 2025-02-09 15:09:18 -0500 (Sun, 09 Feb 2025) EndedAt: 2025-02-09 15:09:41 -0500 (Sun, 09 Feb 2025) EllapsedTime: 23.1 seconds RetCode: 0 Status: OK