Package: phantasusLite Version: 1.5.0 Command: /home/biocbuild/bbs-3.21-bioc/R/bin/R CMD build --keep-empty-dirs --no-resave-data phantasusLite StartedAt: 2025-02-09 18:38:58 -0500 (Sun, 09 Feb 2025) EndedAt: 2025-02-09 18:39:52 -0500 (Sun, 09 Feb 2025) EllapsedTime: 54.1 seconds RetCode: 0 Status: OK PackageFile: phantasusLite_1.5.0.tar.gz PackageFileSize: 233.6 KiB