Package: phantasusLite Version: 1.5.0 Command: /home/biocbuild/bbs-3.21-bioc/R/bin/R CMD check --install=check:phantasusLite.install-out.txt --library=/home/biocbuild/bbs-3.21-bioc/R/site-library --timings phantasusLite_1.5.0.tar.gz StartedAt: 2025-02-10 01:16:15 -0500 (Mon, 10 Feb 2025) EndedAt: 2025-02-10 01:19:57 -0500 (Mon, 10 Feb 2025) EllapsedTime: 222.4 seconds RetCode: 0 Status: OK CheckDir: phantasusLite.Rcheck Warnings: 0