Package: phantasusLite Version: 1.5.0 Command: /home/biocbuild/bbs-3.21-bioc/R/bin/R CMD INSTALL phantasusLite StartedAt: 2025-02-09 15:57:30 -0500 (Sun, 09 Feb 2025) EndedAt: 2025-02-09 15:57:49 -0500 (Sun, 09 Feb 2025) EllapsedTime: 18.5 seconds RetCode: 0 Status: OK