Package: phantasusLite Version: 1.5.0 Command: rm -rf phantasusLite.buildbin-libdir && mkdir phantasusLite.buildbin-libdir && E:\biocbuild\bbs-3.21-bioc\R\bin\R.exe CMD INSTALL --build --library=phantasusLite.buildbin-libdir phantasusLite_1.5.0.tar.gz StartedAt: 2025-02-04 08:35:20 -0500 (Tue, 04 Feb 2025) EndedAt: 2025-02-04 08:36:13 -0500 (Tue, 04 Feb 2025) EllapsedTime: 53.1 seconds RetCode: 0 Status: OK PackageFile: phantasusLite_1.5.0.zip PackageFileSize: 311.2 KiB