Package: phantasusLite Version: 1.5.0 Command: chmod a+r phantasusLite -R && E:\biocbuild\bbs-3.21-bioc\R\bin\R.exe CMD build --keep-empty-dirs --no-resave-data phantasusLite StartedAt: 2025-02-03 20:56:21 -0500 (Mon, 03 Feb 2025) EndedAt: 2025-02-03 20:57:15 -0500 (Mon, 03 Feb 2025) EllapsedTime: 54.2 seconds RetCode: 0 Status: OK PackageFile: phantasusLite_1.5.0.tar.gz PackageFileSize: 233.6 KiB