Package: phantasusLite Version: 1.5.0 Command: E:\biocbuild\bbs-3.21-bioc\R\bin\R.exe CMD INSTALL phantasusLite StartedAt: 2025-02-09 15:53:57 -0500 (Sun, 09 Feb 2025) EndedAt: 2025-02-09 15:54:31 -0500 (Sun, 09 Feb 2025) EllapsedTime: 33.8 seconds RetCode: 0 Status: OK