Package: phenoTest Version: 1.55.0 Command: rm -rf phenoTest.buildbin-libdir && mkdir phenoTest.buildbin-libdir && /Users/biocbuild/BBS/utils/build-universal.sh phenoTest_1.55.0.tar.gz /Library/Frameworks/R.framework/Resources/bin/R phenoTest.buildbin-libdir StartedAt: 2025-02-04 22:26:53 -0500 (Tue, 04 Feb 2025) EndedAt: 2025-02-04 22:27:07 -0500 (Tue, 04 Feb 2025) EllapsedTime: 14.3 seconds RetCode: 0 Status: OK PackageFile: phenoTest_1.55.0.tgz PackageFileSize: 1.895 MiB