Package: phenoTest Version: 1.55.0 Command: /Library/Frameworks/R.framework/Resources/bin/R CMD check --install=check:phenoTest.install-out.txt --library=/Library/Frameworks/R.framework/Resources/library --no-vignettes --timings phenoTest_1.55.0.tar.gz StartedAt: 2025-02-04 20:40:10 -0500 (Tue, 04 Feb 2025) EndedAt: 2025-02-04 20:41:31 -0500 (Tue, 04 Feb 2025) EllapsedTime: 80.8 seconds RetCode: 0 Status: OK CheckDir: phenoTest.Rcheck Warnings: 0