Package: phenoTest Version: 1.55.0 Command: /Library/Frameworks/R.framework/Resources/bin/R CMD INSTALL phenoTest StartedAt: 2025-02-09 15:20:23 -0500 (Sun, 09 Feb 2025) EndedAt: 2025-02-09 15:20:36 -0500 (Sun, 09 Feb 2025) EllapsedTime: 12.9 seconds RetCode: 0 Status: OK