Package: phenoTest Version: 1.55.0 Command: /home/biocbuild/R/R/bin/R CMD build --keep-empty-dirs --no-resave-data phenoTest StartedAt: 2025-01-29 01:16:24 -0000 (Wed, 29 Jan 2025) EndedAt: 2025-01-29 01:17:36 -0000 (Wed, 29 Jan 2025) EllapsedTime: 72.1 seconds RetCode: 0 Status: OK PackageFile: phenoTest_1.55.0.tar.gz PackageFileSize: 1.265 MiB