Package: phenoTest Version: 1.55.0 Command: /home/biocbuild/R/R/bin/R CMD check --install=check:phenoTest.install-out.txt --library=/home/biocbuild/R/R/site-library --no-vignettes --timings phenoTest_1.55.0.tar.gz StartedAt: 2025-01-28 13:52:18 -0000 (Tue, 28 Jan 2025) EndedAt: 2025-01-28 13:57:16 -0000 (Tue, 28 Jan 2025) EllapsedTime: 297.3 seconds RetCode: 0 Status: WARNINGS CheckDir: phenoTest.Rcheck Warnings: 6