Package: phenoTest Version: 1.55.0 Command: rm -rf phenoTest.buildbin-libdir && mkdir phenoTest.buildbin-libdir && /Users/biocbuild/BBS/utils/build-universal.sh phenoTest_1.55.0.tar.gz /Library/Frameworks/R.framework/Resources/bin/R phenoTest.buildbin-libdir StartedAt: 2025-02-05 00:54:15 -0500 (Wed, 05 Feb 2025) EndedAt: 2025-02-05 00:55:05 -0500 (Wed, 05 Feb 2025) EllapsedTime: 49.6 seconds RetCode: 0 Status: OK PackageFile: phenoTest_1.55.0.tgz PackageFileSize: 1.891 MiB