Package: phenoTest Version: 1.55.0 Command: /Library/Frameworks/R.framework/Resources/bin/R CMD build --keep-empty-dirs --no-resave-data phenoTest StartedAt: 2025-02-09 17:57:10 -0500 (Sun, 09 Feb 2025) EndedAt: 2025-02-09 17:58:17 -0500 (Sun, 09 Feb 2025) EllapsedTime: 67.5 seconds RetCode: 0 Status: OK PackageFile: phenoTest_1.55.0.tar.gz PackageFileSize: 1.272 MiB