Package: phenoTest Version: 1.55.0 Command: E:\biocbuild\bbs-3.21-bioc\R\bin\R.exe CMD INSTALL phenoTest StartedAt: 2025-02-04 16:29:51 -0500 (Tue, 04 Feb 2025) EndedAt: 2025-02-04 16:30:58 -0500 (Tue, 04 Feb 2025) EllapsedTime: 66.4 seconds RetCode: 0 Status: OK