Package: phenopath Version: 1.31.0 Maintainer: Kieran Campbell MaintainerEmail: kieranrcampbell at gmail.com git_url: https://git.bioconductor.org/packages/phenopath git_branch: devel git_last_commit: e66e4a6 git_last_commit_date: 2024-10-29 10:20:23 -0500 (Tue, 29 Oct 2024)