Package: phenopath Version: 1.31.0 Command: rm -rf phenopath.buildbin-libdir && mkdir phenopath.buildbin-libdir && /Users/biocbuild/BBS/utils/build-universal.sh phenopath_1.31.0.tar.gz /Library/Frameworks/R.framework/Resources/bin/R phenopath.buildbin-libdir StartedAt: 2025-02-09 22:25:04 -0500 (Sun, 09 Feb 2025) EndedAt: 2025-02-09 22:25:18 -0500 (Sun, 09 Feb 2025) EllapsedTime: 14.3 seconds RetCode: 0 Status: OK PackageFile: phenopath_1.31.0.tgz PackageFileSize: 1.024 MiB