Package: phenopath Version: 1.31.0 Command: /Library/Frameworks/R.framework/Resources/bin/R CMD INSTALL phenopath StartedAt: 2025-02-09 15:05:44 -0500 (Sun, 09 Feb 2025) EndedAt: 2025-02-09 15:05:55 -0500 (Sun, 09 Feb 2025) EllapsedTime: 11.2 seconds RetCode: 0 Status: OK