Package: phenopath Version: 1.31.0 Command: /home/biocbuild/R/R/bin/R CMD check --install=check:phenopath.install-out.txt --library=/home/biocbuild/R/R/site-library --no-vignettes --timings phenopath_1.31.0.tar.gz StartedAt: 2025-01-28 13:52:12 -0000 (Tue, 28 Jan 2025) EndedAt: 2025-01-28 13:56:09 -0000 (Tue, 28 Jan 2025) EllapsedTime: 237.2 seconds RetCode: 0 Status: OK CheckDir: phenopath.Rcheck Warnings: 0