Package: phenopath Version: 1.31.0 Command: /Library/Frameworks/R.framework/Resources/bin/R CMD INSTALL phenopath StartedAt: 2025-02-12 15:10:24 -0500 (Wed, 12 Feb 2025) EndedAt: 2025-02-12 15:11:04 -0500 (Wed, 12 Feb 2025) EllapsedTime: 39.4 seconds RetCode: 0 Status: OK