Package: phenopath Version: 1.31.0 Command: /home/biocbuild/bbs-3.21-bioc/R/bin/R CMD build --keep-empty-dirs --no-resave-data phenopath StartedAt: 2025-02-12 18:34:59 -0500 (Wed, 12 Feb 2025) EndedAt: 2025-02-12 18:35:51 -0500 (Wed, 12 Feb 2025) EllapsedTime: 52.1 seconds RetCode: 0 Status: OK PackageFile: phenopath_1.31.0.tar.gz PackageFileSize: 1.334 MiB