Package: phenopath Version: 1.31.0 Command: E:\biocbuild\bbs-3.21-bioc\R\bin\R.exe CMD INSTALL phenopath StartedAt: 2025-02-12 16:04:36 -0500 (Wed, 12 Feb 2025) EndedAt: 2025-02-12 16:05:20 -0500 (Wed, 12 Feb 2025) EllapsedTime: 43.7 seconds RetCode: 0 Status: OK