Package: philr Version: 1.33.0 Maintainer: Justin Silverman MaintainerEmail: jsilve24 at gmail.com git_url: https://git.bioconductor.org/packages/philr git_branch: devel git_last_commit: 9061ebc git_last_commit_date: 2024-10-29 10:13:37 -0500 (Tue, 29 Oct 2024)