Package: philr Version: 1.33.0 Command: /Library/Frameworks/R.framework/Resources/bin/R CMD build --keep-empty-dirs --no-resave-data philr StartedAt: 2025-02-03 17:51:05 -0500 (Mon, 03 Feb 2025) EndedAt: 2025-02-03 17:51:21 -0500 (Mon, 03 Feb 2025) EllapsedTime: 16.2 seconds RetCode: 0 Status: OK PackageFile: philr_1.33.0.tar.gz PackageFileSize: 520.2 KiB