Package: philr Version: 1.33.0 Command: /home/biocbuild/R/R/bin/R CMD INSTALL philr StartedAt: 2025-01-29 20:00:08 -0000 (Wed, 29 Jan 2025) EndedAt: 2025-01-29 20:00:20 -0000 (Wed, 29 Jan 2025) EllapsedTime: 12.1 seconds RetCode: 0 Status: OK