Package: philr Version: 1.33.0 Command: rm -rf philr.buildbin-libdir && mkdir philr.buildbin-libdir && /Users/biocbuild/BBS/utils/build-universal.sh philr_1.33.0.tar.gz /Library/Frameworks/R.framework/Resources/bin/R philr.buildbin-libdir StartedAt: 2025-02-05 00:54:15 -0500 (Wed, 05 Feb 2025) EndedAt: 2025-02-05 00:54:30 -0500 (Wed, 05 Feb 2025) EllapsedTime: 14.9 seconds RetCode: 0 Status: OK PackageFile: philr_1.33.0.tgz PackageFileSize: 576.6 KiB